BEGIN:VCALENDAR
VERSION:2.0
BEGIN:VEVENT
DTSTART:20201109T145500
DURATION:PT00H00M00S
SUMMARY:[COURSE] Προσδιορισμός ακατέργαστων φυτικών ινών, ομάδες Δευτέρας
DESCRIPTION:Διαδικτυακή παρουσίαση του προσδιορισμού των ακατέργαστων φυτικών ινών με τη μέθοδο Weende στη συσκευή Dosi-Fiber
Διδάσκων: Μπόσκου Γεώργιος, Αναπληρωτής Καθηγητής
 
(εναλλακτικό δωμάτιο σε περίπτωση που υπάρχει τεχνικό πρόβλημα https://elearning.hua.gr/b/gbo-sml-ney-wqm)
END:VEVENT
BEGIN:VEVENT
DTSTART:20201112T145500
DURATION:PT00H00M00S
SUMMARY:[COURSE] Προσδιορισμός ακατέργαστων φυτικών ινών, ομάδες Πέμπτης
DESCRIPTION:Διαδικτυακή παρουσίαση του προσδιορισμού των ακατέργαστων φυτικών ινών με τη μέθοδο Weende στη συσκευή Dosi-Fiber

Διδάσκων: Μπόσκου Γεώργιος, Αναπληρωτής Καθηγητής
 
(εναλλακτικό δωμάτιο σε περίπτωση που υπάρχει τεχνικό πρόβλημα https://elearning.hua.gr/b/gbo-sml-ney-wqm)
END:VEVENT
BEGIN:VEVENT
DTSTART:20210714T165500
DURATION:PT00H00M00S
SUMMARY:[COURSE] Προσδιορισμός ακατέργαστων φυτικών ινών, ομάδα αναπλήρωσης
DESCRIPTION:Προσδιορισμός ακατέργαστων φυτικών ινών, ομάδα αναπλήρωσης


Διαδικτυακή παρουσίαση του προσδιορισμού των ακατέργαστων φυτικών ινών με τη μέθοδο Weende στη συσκευή Dosi-Fiber

Διδάσκων: Μπόσκου Γεώργιος, Αναπληρωτής Καθηγητής
 
(εναλλακτικό δωμάτιο σε περίπτωση που υπάρχει τεχνικό πρόβλημα https://elearning.hua.gr/b/gbo-sml-ney-wqm)
END:VEVENT
BEGIN:VEVENT
DTSTART:20210930T235500
DURATION:PT00H00M00S
SUMMARY:[DEADLINE] Προσδιορισμός αναγόντων σακχάρων
DESCRIPTION:σε ένα αρχείο κειμένου, σε pdf, θα κάνετε περιγραφή της άσκησης όπως θα κάνατε στο τετράδιο εργαστηρίου
filename: π.χ. RS-214089.pdf (το νούμερο είναι το ΑΜ σας)
Περιεχόμενα:
Τίτλος, ημερομηνία, διδάσκων
Σκοπός
Αρχή της μεθόδου
Υλικά
Μέθοδος
Αποτελέσματα
Υπολογισμοί
Συμπέρασμα
(deadline: 2021-09-30 23:55:00)
BEGIN:VALARM
TRIGGER:-PT24H
DURATION:PT10H
ACTION:DISPLAY
DESCRIPTION:DEADLINE REMINDER for Προσδιορισμός αναγόντων σακχάρων
END:VALARM
END:VEVENT
END:VCALENDAR
