BEGIN:VCALENDAR
VERSION:2.0
BEGIN:VEVENT
DTSTART:20241116T235500
DURATION:PT00H00M00S
SUMMARY:[DEADLINE] Εργασία ενότητας υγείας - μέρος 1ο
DESCRIPTION:Παρακαλώ βρείτε την εκφώνηση της εργασίας στο επισυναπτόμενο αρχείο.
(deadline: 2024-11-16 23:55:00)
BEGIN:VALARM
TRIGGER:-PT24H
DURATION:PT10H
ACTION:DISPLAY
DESCRIPTION:DEADLINE REMINDER for Εργασία ενότητας υγείας - μέρος 1ο
END:VALARM
END:VEVENT
BEGIN:VEVENT
DTSTART:20241213T235500
DURATION:PT00H00M00S
SUMMARY:[DEADLINE] Εργασία ενότητας υγείας - μέρος 2
DESCRIPTION:Παρακαλώ βρείτε την εκφώνηση του δεύτερου μέρους στο επισυναπτόμενο αρχείο. Η εργασία είναι ατομική. 
(deadline: 2024-12-13 23:55:00)
BEGIN:VALARM
TRIGGER:-PT24H
DURATION:PT10H
ACTION:DISPLAY
DESCRIPTION:DEADLINE REMINDER for Εργασία ενότητας υγείας - μέρος 2
END:VALARM
END:VEVENT
END:VCALENDAR
