BEGIN:VCALENDAR
VERSION:2.0
BEGIN:VEVENT
DTSTART:20170411T235500
DURATION:PT00H00M00S
SUMMARY:[DEADLINE] 1ο Παραδοτέο
DESCRIPTION:Στις Εκφωνήσεις Εργασιών θα βρείτε τις πληροφορίες και οδηγίες που αφορούν το πρώτο παραδοτέο σας.
(deadline: 2017-04-11 23:55:00)
BEGIN:VALARM
TRIGGER:-PT24H
DURATION:PT10H
ACTION:DISPLAY
DESCRIPTION:DEADLINE REMINDER for 1ο Παραδοτέο
END:VALARM
END:VEVENT
BEGIN:VEVENT
DTSTART:20170428T235500
DURATION:PT00H00M00S
SUMMARY:[DEADLINE] 2ο Παραδοτέο
DESCRIPTION:Στις Εκφωνήσεις Εργασιών θα βρείτε τις πληροφορίες και οδηγίες που αφορούν το δεύτερο παραδοτέο σας.
(deadline: 2017-04-28 23:55:00)
BEGIN:VALARM
TRIGGER:-PT24H
DURATION:PT10H
ACTION:DISPLAY
DESCRIPTION:DEADLINE REMINDER for 2ο Παραδοτέο
END:VALARM
END:VEVENT
BEGIN:VEVENT
DTSTART:20170525T235500
DURATION:PT00H00M00S
SUMMARY:[DEADLINE] 3ο Παραδοτέο 
DESCRIPTION:Στις Εκφωνήσεις Εργασιών θα βρείτε τις πληροφορίες και οδηγίες που αφορούν το τρίτο παραδοτέο σας.
(deadline: 2017-05-25 23:55:00)
BEGIN:VALARM
TRIGGER:-PT24H
DURATION:PT10H
ACTION:DISPLAY
DESCRIPTION:DEADLINE REMINDER for 3ο Παραδοτέο
END:VALARM
END:VEVENT
BEGIN:VEVENT
DTSTART:20180416T030000
DURATION:PT00H00M00S
SUMMARY:[DEADLINE] 1ο παραδοτέο 
DESCRIPTION:Αρκεί ένα μέλος της ομάδας να ανεβάσει την εργασία  Το αρχείο πρέπει να είναι pdf να αναφέρεται ο αριθμός ομάδας στο όνομά του και να περιλαμβάνει εξώφυλλο με τα στοιχεία των μελών της ομάδας και τον τίτλο της εργασίας  
 
Δομή Εγγράφου Απαιτήσεων
 
- Εισαγωγή
- Γλιωσσάρι (λεξικό όρων)
- Περιγραφή συστήματος (όπως στην εκφώνηση της εργασίας)
- Περιγραφή απαιτήσεων του χρήστη (στην οποία εμπεριέχονται τυχόν διευκρινίσεις)
- Μοντέλα συστήματος (UML διαγράμματα)
- Προδιαγραφή απαιτήσεων συστήματος (για κάθε ένα από τα UML διαγράμματα, έμφαση να δοθεί και στις μη λειτουργικές απαιτήσεις)
- Παραρτήματα (αν απαιτούνται)
(deadline: 2018-04-16 03:00:00)
BEGIN:VALARM
TRIGGER:-PT24H
DURATION:PT10H
ACTION:DISPLAY
DESCRIPTION:DEADLINE REMINDER for 1ο παραδοτέο
END:VALARM
END:VEVENT
BEGIN:VEVENT
DTSTART:20180508T030000
DURATION:PT00H00M00S
SUMMARY:[DEADLINE] 2ο παραδοτέο 
DESCRIPTION:(deadline: 2018-05-08 03:00:00)
BEGIN:VALARM
TRIGGER:-PT24H
DURATION:PT10H
ACTION:DISPLAY
DESCRIPTION:DEADLINE REMINDER for 2ο παραδοτέο
END:VALARM
END:VEVENT
BEGIN:VEVENT
DTSTART:20180528T030000
DURATION:PT00H00M00S
SUMMARY:[DEADLINE] 3ο Παραδοτέο
DESCRIPTION:Όσον αφορά το πλήθος των διαγραμμάτων θα πρέπει να έχει:
ένα deployment/component diagram
ένα ER διάγραμμα (μπορείτε να το δημιουγήσετε αυτόματα από το class, αλλάξετε)
ένα package διάγραμμα ώστε να δείχνετε πως έχετε οργανώσει τις κλάσεις σας (με βάση το class και το deployment)
τρεις τουλάχιστον ενδεικτικές οθόνες της εφαρμογής (διαλέξτε ένα σενάριο -με βάση π.χ. μια λειτουργία από ένα use case- και φτιάξτε τις οθόνες γι αυτό το σενάριο)

(deadline: 2018-05-28 03:00:00)
BEGIN:VALARM
TRIGGER:-PT24H
DURATION:PT10H
ACTION:DISPLAY
DESCRIPTION:DEADLINE REMINDER for 3ο Παραδοτέο
END:VALARM
END:VEVENT
BEGIN:VEVENT
DTSTART:20180605T235500
DURATION:PT00H00M00S
SUMMARY:[DEADLINE] Τελικό παραδοτέο
DESCRIPTION:Το τελευταίο παραδοτέο θα περιλαμβάνει ένα σύνολο από δοκιμές (tests) - τι δοκιμές θα κάνατε για να δείτε ότι το σύστημά σας λειτουργεί κανονικά-.
Επιλέξτε δυο κλάσεις και περιγράψτε με λεπτομέρεια εισόδους και αναμενόμενες εξόδους σε μεθόδους τους.
Αν το επιθυμείτε προαιρετικά μπορείτε να χρησιμοποιήσετε κάποια βιβλιοθήκη από αυτές που είδαμε και να γράψετε τις δοκιμές σας.
Επίσης, κάντε αλλαγές σε όλα τα προηγούμενα παραδοτέα σύμφωνα με τις παρατηρήσεις που λάβατε μέχρι τώρα ή αν κρίνετε μόνοι σας ότι κάτι χρειάζεται βελτίωση.
Μπορείτε να χρησιμοποιήσετε έναν πίνακα όπως ο παρακάτω.
 
AA
testing component/function(class/method)
input
expected output 
output
message
1
Calculator-&gt;add(x,y) 
5,6
11
11
επιτυχές
2
Calculator-&gt;add(x,y)

5

1
error
λείπει 1 παράμετρος
 
(deadline: 2018-06-05 23:55:00)
BEGIN:VALARM
TRIGGER:-PT24H
DURATION:PT10H
ACTION:DISPLAY
DESCRIPTION:DEADLINE REMINDER for Τελικό παραδοτέο
END:VALARM
END:VEVENT
END:VCALENDAR
