BEGIN:VCALENDAR
VERSION:2.0
BEGIN:VEVENT
DTSTART:20211109T235900
DURATION:PT00H00M00S
SUMMARY:[DEADLINE] Πρώτο παραδοτέο εξαμηνιαίας εργασίας 2021-2022
DESCRIPTION:Eκφώνηση πρώτου παραδοτέου εξαμηνιαίας εργασίας 2021-2022 [1]
Τι παραδίδετε;
Θα ανεβάσετε στο Eclass ως ομάδα ένα έγγραφο (pdf, doc, page, txt) που περιέχει ονοματεπώνυμο, αριθμό μητρώου και μόνο το url του private github repository όπου βρίσκεται η εργασία σας. 
 
Πώς βαθμολογήστε; 
Βαθμολογήστε με βάση την πληρότητα και την ποιότητα του κώδικα σας. Υποχρεωτικό είναι να χρησιμοποιηθούν οι τεχνικές που αναφέρονται με Bold γράμματα. Το πώς θα τις χρησιμοποιήσετε και θα μοντελοποιήσετε το πρόβλημα επαφίεται στην κρίση σας. Επιτρέπεται η συνεργασία αναμεταξύ των ομάδων, δεν επιτρέπεται το copy paste αναμεταξύ των ομάδων. Οτιδήποτε υπάρχει διαθέσιμο στο Internet μπορεί να χρησιμοποιηθεί. 
Σε κάθε παραδοτέο θα παίρνετε έναν βαθμό και κάποια σχόλια. Αν μου παρουσιάσετε το πρόγραμμα σας στο τέλος του εξαμήνου και έχετε βελτιώσει τον κώδικα σας με βάση τα σχόλια, αντίστοιχα θα βελτιωθεί και ο βαθμός σας.
 
Απορίες;
Θα είμαι διαθέσιμος να αντιμετωπίσω μαζί σας οποιαδήποτε απορία έχετε στο εργαστήριο, στο μάθημα και μέσω mail αλλά πριν με ρωτήσετε, βεβαιωθείτε ότι δεν υπάρχει διαθέσιμη η απάντηση στο Internet και συγκεκριμένα στο Stackoverflow.
[1] https://docs.google.com/document/d/1mkEn57qVUBXSLVzbsR--dgLHukzWTrTPiAeQRI7xUys/edit?usp=sharing
(deadline: 2021-11-09 23:59:00)
BEGIN:VALARM
TRIGGER:-PT24H
DURATION:PT10H
ACTION:DISPLAY
DESCRIPTION:DEADLINE REMINDER for Πρώτο παραδοτέο εξαμηνιαίας εργασίας 2021-2022
END:VALARM
END:VEVENT
BEGIN:VEVENT
DTSTART:20211207T235900
DURATION:PT00H00M00S
SUMMARY:[DEADLINE] Δεύτερο παραδοτέο εξαμηνιαίας εργασίας 2021-2022
DESCRIPTION:Eκφώνηση δεύτερου παραδοτέου εξαμηνιαίας εργασίας 2021-2022 [1]
Τι παραδίδετε;
Θα ανεβάσετε στο Eclass ως ομάδα ένα έγγραφο (pdf, doc, page, txt) που περιέχει ονοματεπώνυμο, αριθμό μητρώου και μόνο το url του private github repository όπου βρίσκεται η εργασία σας. 
 
Πώς βαθμολογήστε; 
Βαθμολογήστε με βάση την πληρότητα και την ποιότητα του κώδικα σας. Υποχρεωτικό είναι να χρησιμοποιηθούν οι τεχνικές που αναφέρονται με Bold γράμματα. Το πώς θα τις χρησιμοποιήσετε και θα μοντελοποιήσετε το πρόβλημα επαφίεται στην κρίση σας. Επιτρέπεται η συνεργασία αναμεταξύ των ομάδων, δεν επιτρέπεται το copy paste αναμεταξύ των ομάδων. Οτιδήποτε υπάρχει διαθέσιμο στο Internet μπορεί να χρησιμοποιηθεί. 
Σε κάθε παραδοτέο θα παίρνετε έναν βαθμό και κάποια σχόλια. Αν μου παρουσιάσετε το πρόγραμμα σας στο τέλος του εξαμήνου και έχετε βελτιώσει τον κώδικα σας με βάση τα σχόλια, αντίστοιχα θα βελτιωθεί και ο βαθμός σας.
 
Απορίες;
Θα είμαι διαθέσιμος να αντιμετωπίσω μαζί σας οποιαδήποτε απορία έχετε στο εργαστήριο, στο μάθημα και μέσω mail αλλά πριν με ρωτήσετε, βεβαιωθείτε ότι δεν υπάρχει διαθέσιμη η απάντηση στο Internet και συγκεκριμένα στο Stackoverflow.
[1] https://docs.google.com/document/d/1PJpQQbf29kQscEmFe19MXtuO7XB_Wpx48FuA00cTp5o/edit?usp=sharing
(deadline: 2021-12-07 23:59:00)
BEGIN:VALARM
TRIGGER:-PT24H
DURATION:PT10H
ACTION:DISPLAY
DESCRIPTION:DEADLINE REMINDER for Δεύτερο παραδοτέο εξαμηνιαίας εργασίας 2021-2022
END:VALARM
END:VEVENT
BEGIN:VEVENT
DTSTART:20211221T235900
DURATION:PT00H00M00S
SUMMARY:[DEADLINE] Tρίτο παραδοτέο εξαμηνιαίας εργασίας 2021-2022
DESCRIPTION:Εκφώνηση τρίτου παραδοτέου εξαμηνιαίας εργασίας 2021-2022 [1]
Τι παραδίδετε;
Θα ανεβάσετε στο Eclass ως ομάδα ένα έγγραφο (pdf, doc, page, txt) που περιέχει ονοματεπώνυμο, αριθμό μητρώου και μόνο το url του private github repository όπου βρίσκεται η εργασία σας. 
 
Πώς βαθμολογήστε; 
Βαθμολογήστε με βάση την πληρότητα και την ποιότητα του κώδικα σας. Υποχρεωτικό είναι να χρησιμοποιηθούν οι τεχνικές που αναφέρονται με Bold γράμματα. Το πώς θα τις χρησιμοποιήσετε και θα μοντελοποιήσετε το πρόβλημα επαφίεται στην κρίση σας. Επιτρέπεται η συνεργασία αναμεταξύ των ομάδων, δεν επιτρέπεται το copy paste αναμεταξύ των ομάδων. Οτιδήποτε υπάρχει διαθέσιμο στο Internet μπορεί να χρησιμοποιηθεί. 
Σε κάθε παραδοτέο θα παίρνετε έναν βαθμό και κάποια σχόλια. Αν μου παρουσιάσετε το πρόγραμμα σας στο τέλος του εξαμήνου και έχετε βελτιώσει τον κώδικα σας με βάση τα σχόλια, αντίστοιχα θα βελτιωθεί και ο βαθμός σας.
 
Απορίες;
Θα είμαι διαθέσιμος να αντιμετωπίσω μαζί σας οποιαδήποτε απορία έχετε στο εργαστήριο, στο μάθημα και μέσω mail αλλά πριν με ρωτήσετε, βεβαιωθείτε ότι δεν υπάρχει διαθέσιμη η απάντηση στο Internet και συγκεκριμένα στο Stackoverflow.
[1] https://docs.google.com/document/d/17Hzdw6wCQTld69YnFUCOOS7iewPWIidEMdLIIzNzaHs/edit?usp=sharing
(deadline: 2021-12-21 23:59:00)
BEGIN:VALARM
TRIGGER:-PT24H
DURATION:PT10H
ACTION:DISPLAY
DESCRIPTION:DEADLINE REMINDER for Tρίτο παραδοτέο εξαμηνιαίας εργασίας 2021-2022
END:VALARM
END:VEVENT
BEGIN:VEVENT
DTSTART:20220118T235900
DURATION:PT00H00M00S
SUMMARY:[DEADLINE] Tέταρτο παραδοτέο εξαμηνιαίας εργασίας 2021-2022
DESCRIPTION:Eκφώνηση τέταρτου παραδοτέου εξαμηνιαίας εργασίας 2021-2022 [1]
Τι παραδίδετε;
Θα ανεβάσετε στο Eclass ως ομάδα ένα έγγραφο (pdf, doc, page, txt) που περιέχει ονοματεπώνυμο, αριθμό μητρώου και μόνο το url του private github repository όπου βρίσκεται η εργασία σας. 
 
Πώς βαθμολογήστε; 
Βαθμολογήστε με βάση την πληρότητα και την ποιότητα του κώδικα σας. Υποχρεωτικό είναι να χρησιμοποιηθούν οι τεχνικές που αναφέρονται με Bold γράμματα. Το πώς θα τις χρησιμοποιήσετε και θα μοντελοποιήσετε το πρόβλημα επαφίεται στην κρίση σας. Επιτρέπεται η συνεργασία αναμεταξύ των ομάδων, δεν επιτρέπεται το copy paste αναμεταξύ των ομάδων. Οτιδήποτε υπάρχει διαθέσιμο στο Internet μπορεί να χρησιμοποιηθεί. 
Σε κάθε παραδοτέο θα παίρνετε έναν βαθμό και κάποια σχόλια. Αν μου παρουσιάσετε το πρόγραμμα σας στο τέλος του εξαμήνου και έχετε βελτιώσει τον κώδικα σας με βάση τα σχόλια, αντίστοιχα θα βελτιωθεί και ο βαθμός σας.
 
Απορίες;
Θα είμαι διαθέσιμος να αντιμετωπίσω μαζί σας οποιαδήποτε απορία έχετε στο εργαστήριο, στο μάθημα και μέσω mail αλλά πριν με ρωτήσετε, βεβαιωθείτε ότι δεν υπάρχει διαθέσιμη η απάντηση στο Internet και συγκεκριμένα στο Stackoverflow.
[1] https://docs.google.com/document/d/1MbRUN3-N0YV_x8MFkAGl6LbZ06337Hs0vFkrinDT6QA/edit?usp=sharing
(deadline: 2022-01-18 23:59:00)
BEGIN:VALARM
TRIGGER:-PT24H
DURATION:PT10H
ACTION:DISPLAY
DESCRIPTION:DEADLINE REMINDER for Tέταρτο παραδοτέο εξαμηνιαίας εργασίας 2021-2022
END:VALARM
END:VEVENT
BEGIN:VEVENT
DTSTART:20220220T214500
DURATION:PT00H00M00S
SUMMARY:[DEADLINE] Απαλλακτική Εργασία 2022
DESCRIPTION:(deadline: 2022-02-20 21:45:00)
BEGIN:VALARM
TRIGGER:-PT24H
DURATION:PT10H
ACTION:DISPLAY
DESCRIPTION:DEADLINE REMINDER for Απαλλακτική Εργασία 2022
END:VALARM
END:VEVENT
END:VCALENDAR
